{"text_format":"1","workbook":"xlsx","n_sheets":3,"sheets":["入力","印刷","事務局用"],"not_rendered":{"charts":0,"images":0,"macros":1,"external_links":0,"defined_names":1,"comments":0,"pivot_tables":0},"unopened":[],"bounds":{"document_bytes":16777216,"sheet_cells":100000,"rows_first":2000,"rows_last":500,"rows_between":2000,"halvings":0,"cell_chars":16384,"cell_head_chars":4096},"cells_cut":0,"cells_raw":0,"read":"whole","date_system":"1900"}

{"sheet":"入力","index":0,"n_rows":35,"n_cols":20,"rows_kept":35,"cut":false,"hidden":false,"merged":[[2,1,2,2],[17,2,17,4],[18,2,18,4],[19,2,19,4],[8,2,8,4],[11,2,11,3],[9,2,9,4],[11,0,11,1],[7,2,7,12],[4,2,4,12],[4,0,4,1],[13,0,13,1],[13,2,13,3],[6,0,9,0],[34,0,34,16],[32,0,32,16],[30,0,31,14],[24,0,26,0],[15,0,18,0],[16,2,16,12],[22,6,22,7],[22,11,22,12],[20,2,20,9],[22,1,22,2]]}
["The World of Brass  参加申込書       入力フォーム"]
[]
["１．申込日","令和７年４月",null,null,"日",null,"※４月12日必着"]
[]
["２．団体（学校）名"]
[]
["３．所在地","〒"]
[null,"住所"]
[null,"電話",null,null,null,null,"※ハイフン（ー）を入れてください"]
[null,"Fax",null,null,null,null,"※ハイフン（ー）を入れてください"]
[]
["４．所属長名（学校長）"]
[]
["５．責任者（顧問）名"]
[]
["６．責任者連絡先\n   （自宅）等","〒",null,"※ハイフン（ー）を入れてください",null,null,null,null,null,null,null,null,null,null,null,null,null,null,null,"〇"]
[null,"住所",null,null,null,null,null,null,null,null,null,null,null,null,null,null,null,null,null,"×"]
[null,"電話",null,null,null,null,"※ハイフン（ー）を入れてください"]
[null,"Fax",null,null,null,null,"※ハイフン（ー）を入れてください",null,null,null,null,null,null,null,null,null,null,null,null,"大型バス"]
[null,"携帯電話",null,null,null,null,"※ハイフン（ー）を入れてください",null,null,null,null,null,null,null,null,null,null,null,null,"中型バス"]
[null,"E-Mailアドレス",null,null,null,null,null,null,null,null,null,null,null,null,null,null,null,null,null,"小型バス"]
[null,null,null,null,null,null,null,null,null,null,null,null,null,null,null,null,null,null,null,"４ｔトラック"]
["７．交通・輸送","大型バス",null,null,"台",{"$f":"IF(D23=1,\"台\",IF(D23=2,\"台\",IF(D23=3,\"台\",IF(D23=4,\"台\",\"\"))))","v":""},"４ｔトラック",null,null,"台",{"$f":"IF(I23=1,\"台\",IF(I23=2,\"台\",IF(I23=3,\"台\",IF(I23=4,\"台\",\"\"))))","v":""},null,null,null,"台",null,null,null,null,"２ｔトラック"]
[null,null,null,null,null,null,null,null,null,null,null,null,null,null,null,null,null,null,null,"軽ワゴン"]
["８．参加内容\n\n   ",null,"パレード(〇×を選択)",null,null,null,null,null,null,null,null,null,null,null,null,null,null,null,null,"ワゴン"]
[null,null,"演奏・演技(〇×を選択)",null,null,null,null,null,null,null,null,null,null,null,null,null,null,null,null,"普通車"]
[]
[]
["※入力が完了したら"]
[]
["印刷した申込書に職印を押し，東関東吹奏楽連盟事務局に郵送してください。\n（〒104-8011 東京都中央区築地5-3-2 朝日新聞東京本社内）"]
[]
["このエクセルファイルを茨城県吹奏楽連盟事務局にe-mail(ken-jimu@iba-sui.jp)添付で送ってください。\nその際、ファイル名を「WOB参加申込【  団 体 名  】」としてください。"]
[]
["令和７年4月16日（水）必着〆切です。期日厳守でお願いします。"]

{"sheet":"印刷","index":1,"n_rows":29,"n_cols":22,"rows_kept":29,"cut":false,"hidden":false,"merged":[[28,21,28,22],[28,11,28,19],[27,12,27,22],[18,0,18,2],[18,3,18,6],[22,1,22,6],[23,1,23,6],[22,7,22,22],[23,7,23,22],[24,7,24,22],[18,8,18,12],[18,14,18,18],[14,6,14,22],[15,3,15,5],[16,3,16,5],[10,5,10,10],[11,3,11,5],[14,3,14,5],[0,0,0,22],[1,0,1,22],[2,0,2,22],[3,0,3,22],[4,0,4,22],[6,0,6,2],[7,0,10,2],[11,0,17,2],[6,3,6,22],[7,4,7,6],[8,4,8,22],[13,6,13,22],[17,6,17,22],[17,3,17,5],[11,6,11,22],[12,6,12,8],[9,3,9,4],[10,3,10,4],[9,5,9,10],[16,6,16,22],[15,6,15,22]]}
["令和7年度"]
["The World of Brass 2025 ｉｎ ひたちなか"]
["（東関東マーチング講習会・発表会）"]
["さわやかな風と一緒に吹き鳴らそう"]
["参  加  申  込  書"]
[]
["団体名",null,null,{"$f":"入力!C5","v":0}]
["団体所在地",null,null,"〒",{"$f":"入力!C7","v":0}]
[null,null,null,null,{"$f":"入力!C8","v":0}]
[null,null,null,"ＴＥＬ",null,{"$f":"入力!C9","v":0}]
[null,null,null,"ＦＡＸ",null,{"$f":"入力!C10","v":0}]
["団体責任者\n（顧問）",null,null,"氏     名",null,null,{"$f":"入力!C14","v":0}]
[null,null,null,"（自宅）〒",null,null,{"$f":"入力!C16","v":0}]
[null,null,null,null,null,null,{"$f":"入力!C17","v":0}]
[null,null,null,"（自宅）ＴＥＬ",null,null,{"$f":"入力!C18","v":0}]
[null,null,null,"（自宅）ＦＡＸ",null,null,{"$f":"入力!C19","v":0}]
[null,null,null,"携帯電話",null,null,{"$f":"入力!C20","v":0}]
[null,null,null,"E-Mailアドレス",null,null,{"$f":"入力!C21","v":0}]
["交通手段",null,null,{"$f":"CONCATENATE(入力!B23,入力!D23,入力!F23)","v":"大型バス"},null,null,null,null,{"$f":"CONCATENATE(入力!G23,入力!I23,入力!K23)","v":"４ｔトラック"},null,null,null,null,null,{"$f":"CONCATENATE(入力!L23,入力!N23,入力!P23)","v":""}]
[]
["次の内容に参加を申し込みます。"]
[]
[{"$f":"入力!B25","v":0},"パレード"]
[{"$f":"入力!B26","v":0},"演奏・演技発表会"]
[]
[null,"東関東吹奏楽連盟    理事長      千田　豊   様",null,null,null,null,null,null,null,null,null,null,null,null,null,"令和７年４月",null,null,null,null,"日"]
[]
[null,null,null,null,null,null,null,null,null,null,null,null,{"$f":"入力!C5","v":0}]
[null,null,null,null,null,null,null,null,null,null,null,{"$f":"入力!C12","v":0},null,null,null,null,null,null,null,null,null,"職印"]

{"sheet":"事務局用","index":2,"n_rows":3,"n_cols":14,"rows_kept":3,"cut":false,"hidden":false,"merged":[[0,5,1,5],[0,0,1,0],[0,1,1,1],[0,2,1,2],[0,3,1,3],[0,4,1,4],[0,12,1,12],[0,6,1,6],[0,7,1,7],[0,8,1,8],[0,9,1,9],[0,10,1,10],[0,11,1,11]]}
["団体名","〒","住所","TEL","FAX","責任者","責任者〒","責任者住所","責任者TEL","責任者FAX","責任者携帯","メール","輸送","参加"]
[null,null,null,null,null,null,null,null,null,null,null,null,null,"パレード"]
[{"$f":"入力!C5","v":0},{"$f":"入力!C7","v":0},{"$f":"入力!C8","v":0},{"$f":"入力!C9","v":0},{"$f":"入力!C10","v":0},{"$f":"入力!C14","v":0},{"$f":"入力!C16","v":0},{"$f":"入力!C17","v":0},{"$f":"入力!C18","v":0},{"$f":"入力!C19","v":0},{"$f":"入力!C20","v":0},{"$f":"入力!C21","v":0},{"$f":"CONCATENATE(印刷!D19,印刷!I19,印刷!O19)","v":"大型バス４ｔトラック"},{"$f":"印刷!A23","v":0}]